BEGIN:VCALENDAR
VERSION:2.0
PRODID:-//Tamara i Nikos - ECPv6.15.20//NONSGML v1.0//EN
CALSCALE:GREGORIAN
METHOD:PUBLISH
X-WR-CALNAME:Tamara i Nikos
X-ORIGINAL-URL:https://tamarainikos.com
X-WR-CALDESC:Events for Tamara i Nikos
REFRESH-INTERVAL;VALUE=DURATION:PT1H
X-Robots-Tag:noindex
X-PUBLISHED-TTL:PT1H
BEGIN:VTIMEZONE
TZID:Europe/Belgrade
BEGIN:DAYLIGHT
TZOFFSETFROM:+0100
TZOFFSETTO:+0200
TZNAME:CEST
DTSTART:20230326T010000
END:DAYLIGHT
BEGIN:STANDARD
TZOFFSETFROM:+0200
TZOFFSETTO:+0100
TZNAME:CET
DTSTART:20231029T010000
END:STANDARD
BEGIN:DAYLIGHT
TZOFFSETFROM:+0100
TZOFFSETTO:+0200
TZNAME:CEST
DTSTART:20240331T010000
END:DAYLIGHT
BEGIN:STANDARD
TZOFFSETFROM:+0200
TZOFFSETTO:+0100
TZNAME:CET
DTSTART:20241027T010000
END:STANDARD
BEGIN:DAYLIGHT
TZOFFSETFROM:+0100
TZOFFSETTO:+0200
TZNAME:CEST
DTSTART:20250330T010000
END:DAYLIGHT
BEGIN:STANDARD
TZOFFSETFROM:+0200
TZOFFSETTO:+0100
TZNAME:CET
DTSTART:20251026T010000
END:STANDARD
END:VTIMEZONE
BEGIN:VEVENT
DTSTART;TZID=Europe/Belgrade:20240507T190000
DTEND;TZID=Europe/Belgrade:20240507T210000
DTSTAMP:20260421T075143
CREATED:20240501T170631Z
LAST-MODIFIED:20240501T170631Z
UID:23298-1715108400-1715115600@tamarainikos.com
SUMMARY:Anđeosko ćelijsko isceljivanje - ONLINE
DESCRIPTION:Sistem Anđeosko ćelijsko isceljivanje usmeren je na dubinsko isceljivanje bića na ćelijskom nivou. U skladu sa ovim sistemom\, na subatomskom nivou\, u svim našim ćelijama nalaze se majušna eterična anđeoska bića\, koja svojim postojanjem hrane iskru života u nama. Iako ćelije u našem organizmu imaju različite funkcije\, svima je zajedničko postojanje Anđeoskog glasnika\, u čijem je fokusu održavanje božanskog kodiranja. Unutar nukleusa ćelije nalazi se DNK\, a u njoj anđeosko prisustvo\, anđeoski kod na osnovu kojeg funkcioniše sistem Anđeosko ćelijsko isceljivanje. Taj kod nosi u sebi život i transmutaciju ćelije i savršeni otisak Stvoritelja-Boga-Univerzuma. Božansko kodiranje dolazi direktno iz Izvora. \nSve ćelijske anđele nadgleda Vrhovni anđeo\, koji obitava u našoj srčanoj čakri. On se smatra velikim grand masterom isceljivanja i nadgledanja ćelijske aktivnosti. Komunikacija s ovim anđelom moguća je preko Višeg sebstva. Možemo mu upućivati zahteve za isceljenje ili tražiti informacije koje su nam važne. Odgovore ćemo dobijati ili putem intuitivnih ili putem fizičkih čula. \nOsnovni zadatak sistema Anđeosko ćelijsko isceljivanje je isceljivanje na ćelijskom nivou\, održavanje i povećanje vitalnosti i aktiviranje božanskog kodiranja za zdravlje\, koje treba da postane naše prirodno trajno stanje. \nPrijavite se ovde
URL:https://tamarainikos.com/event/andeosko-celijsko-isceljivanje/
CATEGORIES:Anđeosko ćelijsko isceljivanje,Obuke,Online,Usui Reiki
ATTACH;FMTTYPE=image/jpeg:https://tamarainikos.com/wp-content/uploads/2024/05/ACI.jpg
END:VEVENT
END:VCALENDAR