BEGIN:VCALENDAR
VERSION:2.0
PRODID:-//Tamara i Nikos - ECPv6.15.20//NONSGML v1.0//EN
CALSCALE:GREGORIAN
METHOD:PUBLISH
X-WR-CALNAME:Tamara i Nikos
X-ORIGINAL-URL:https://tamarainikos.com
X-WR-CALDESC:Events for Tamara i Nikos
REFRESH-INTERVAL;VALUE=DURATION:PT1H
X-Robots-Tag:noindex
X-PUBLISHED-TTL:PT1H
BEGIN:VTIMEZONE
TZID:Europe/Belgrade
BEGIN:DAYLIGHT
TZOFFSETFROM:+0100
TZOFFSETTO:+0200
TZNAME:CEST
DTSTART:20240331T010000
END:DAYLIGHT
BEGIN:STANDARD
TZOFFSETFROM:+0200
TZOFFSETTO:+0100
TZNAME:CET
DTSTART:20241027T010000
END:STANDARD
BEGIN:DAYLIGHT
TZOFFSETFROM:+0100
TZOFFSETTO:+0200
TZNAME:CEST
DTSTART:20250330T010000
END:DAYLIGHT
BEGIN:STANDARD
TZOFFSETFROM:+0200
TZOFFSETTO:+0100
TZNAME:CET
DTSTART:20251026T010000
END:STANDARD
BEGIN:DAYLIGHT
TZOFFSETFROM:+0100
TZOFFSETTO:+0200
TZNAME:CEST
DTSTART:20260329T010000
END:DAYLIGHT
BEGIN:STANDARD
TZOFFSETFROM:+0200
TZOFFSETTO:+0100
TZNAME:CET
DTSTART:20261025T010000
END:STANDARD
END:VTIMEZONE
BEGIN:VEVENT
DTSTART;TZID=Europe/Belgrade:20250531T190000
DTEND;TZID=Europe/Belgrade:20250531T200000
DTSTAMP:20260421T063845
CREATED:20250418T112812Z
LAST-MODIFIED:20250511T182631Z
UID:24259-1748718000-1748721600@tamarainikos.com
SUMMARY:Aktivacija 5D pupčane čakre - online
DESCRIPTION:Pupčana čakra ne pripada sistemu poznatih sedam čakri\, jer ne može biti trodimenzionalna. Njena aktivacija je važan preduslov za prelaz u petu dimenziju. \n\n\n \nSmeštena je u predelu pupka\, između sakralne čakre i solarnog pleksusa. \n\n\n \nU zlatno doba Atlantide pupčana čakra je bila aktivna i povezivala je ljude sa našim Suncem i\, kroz njega\, sa Velikim centralnim suncem Heliosom. Zlatni solarni zmajevi omogućavali su ljudima da prime sa Heliosa kodove moći i jednosti. Ti kodovi su zračili energijom koja je pomagala tadašnjim ljudima da vide božansko jedni u drugima da bi mogli da se povežu na nivou duše i komuniciraju iz nivoa jednosti. To im je omogućavalo da žive u harmoničnim petodimenzionalnim zajednicama. Omogućavalo im je i da se povežu sa anđelima i drugim bićima svetlosti i da posmatraju ceo univerzum prosvetljenim očima. Na taj način su unosili u sebe Hristovo svetlo. Moć pupčane čakre ih je osnaživala da ostvare svoje vizije. \n\n\n \nU Heliosu Arhanđeo Metatron stvara svetlosnu materiju koja utire put novom Zlatnom dobu. On je usađuje onima koji su spremni. Kad smo potpuno u miru i harmoniji pupčana čakra postaje čista i zrači spokojem. Tada Arhanđeo Gavriil\, koji je zadužen za nju\, pomaže da iznesemo i izrazimo svoju kreativnost i umetničke sposobnosti. \n\n\n \nKad se pupčana čakra proširi\, privučeni smo svojoj božanskoj misiji i tada se oko nas formira mreža spiritualne podrške da nas vodi ka zlatnoj stazi usklađenoj sa izborom naše duše. \n\n\n \nTokom aktivacije: \n\n\n \n💫 Posetićemo Helios i okupati se u blistavom svetlu Arhanđela Metatrona \n\n\n \n💫 Prizvaćemo zlatne solarne zmajeve da ponovo aktiviramo svoje kodove moći \n\n\n \n💫 Hristovim svetlom ćemo ojačati i zaštiti svoju pupčanu čakru \n\n\n \n💫 Putovaćemo u hram Jednog istinskog svetla u zlatnoj Atlantidi gde će uzneli majstor Vuslu rekonsruisati originalni 5D nacrt jednosti \n\n\n \n💫 Povezaćemo se sa Arhanđelom Gavrilom da iscelimo i pročistimo pupčanu čakru \n\n\n \n💫 Upotrebićemo posebne moći manifestovanja da aktiviramo pupčane čakre čovečanstva \n\n\n \nCena aktivacije za uplate do 31.5. je 2000 dinara ili 20 €\, a nakon 31.5. 3000 dinara ili 30 €. Od 2.6. aktivacija će biti trajno dostupna na našoj platformi. \n \n\n	Notice: JavaScript is required for this content.
URL:https://tamarainikos.com/event/aktivacija-5d-sakralne-cakre/
CATEGORIES:Aktivacija 5D pupčane čakre,Obuke,Online
ATTACH;FMTTYPE=image/jpeg:https://tamarainikos.com/wp-content/uploads/2025/04/viber_slika_2025-05-08_16-31-25-428.jpg
END:VEVENT
END:VCALENDAR