BEGIN:VCALENDAR
VERSION:2.0
PRODID:-//Tamara i Nikos - ECPv6.15.20//NONSGML v1.0//EN
CALSCALE:GREGORIAN
METHOD:PUBLISH
X-ORIGINAL-URL:https://tamarainikos.com
X-WR-CALDESC:Events for Tamara i Nikos
REFRESH-INTERVAL;VALUE=DURATION:PT1H
X-Robots-Tag:noindex
X-PUBLISHED-TTL:PT1H
BEGIN:VTIMEZONE
TZID:Europe/Belgrade
BEGIN:DAYLIGHT
TZOFFSETFROM:+0100
TZOFFSETTO:+0200
TZNAME:CEST
DTSTART:20240331T010000
END:DAYLIGHT
BEGIN:STANDARD
TZOFFSETFROM:+0200
TZOFFSETTO:+0100
TZNAME:CET
DTSTART:20241027T010000
END:STANDARD
BEGIN:DAYLIGHT
TZOFFSETFROM:+0100
TZOFFSETTO:+0200
TZNAME:CEST
DTSTART:20250330T010000
END:DAYLIGHT
BEGIN:STANDARD
TZOFFSETFROM:+0200
TZOFFSETTO:+0100
TZNAME:CET
DTSTART:20251026T010000
END:STANDARD
BEGIN:DAYLIGHT
TZOFFSETFROM:+0100
TZOFFSETTO:+0200
TZNAME:CEST
DTSTART:20260329T010000
END:DAYLIGHT
BEGIN:STANDARD
TZOFFSETFROM:+0200
TZOFFSETTO:+0100
TZNAME:CET
DTSTART:20261025T010000
END:STANDARD
END:VTIMEZONE
BEGIN:VEVENT
DTSTART;TZID=Europe/Belgrade:20250703T200000
DTEND;TZID=Europe/Belgrade:20250703T210000
DTSTAMP:20260421T034640
CREATED:20250624T152505Z
LAST-MODIFIED:20250624T154518Z
UID:24584-1751572800-1751576400@tamarainikos.com
SUMMARY:Energija i ključ Arhanđela Raziila - online
DESCRIPTION:Obuka u energiju i ključ Arhanđela Raziila predstavlja viši korak u Vašem radu sa arhanđeoskim energijama. \nIme Arhanđela Raziila znači Tajna Boga. On je serafim (iako je uobičajeno da se naziva arhanđelom) i smatra se da boravi veoma blizu Bogu\, kao i da su mu poznati principi ustrojstva i funkcionisanja Univerzuma. Ima mogućnost da pomogne ljudima da vide\, čuju\, prepoznaju i osete božansko vođstvo\, da se sete svoje božanske svrhe i misije i prizovu blagoslove u svoj život dok je ostvaruju. Smatra se da svakog dana stoji na vrhu gore Horiv i čovečanstvu objavljuje tajne sveta. Njegovu boju čini ceo spektar boja duge. \nArhanđeo Raziil je legendarni pisac „Knjige anđela Raziila“\, u kojoj je smešteno sve nebesko i zemaljsko znanje. U toj knjizi nalazi se 1500 ključeva za misterije univerzuma. Napisane su na tako tajanstvenom jeziku punom simbola da ih je nemoguće dešifrovati bez Raziilove pomoći\, pa se smatra da čak ni najveći nebeski anđeli ne mogu da je protumače. On je serafim\, patron originalnosti\, kreativnosti i sfere čistih ideja. Poseduje znanje iz mističnih veština\, poput alhemije i materijalizacije. \nEfekti rada sa Raziilovom energijom su brojni i odnose se na telo\, duh i dušu. Iako vibraciono veoma udaljen od ljudske ravni\, sve je dostupniji za pomoć čovečanstvu i sve je više ljudi koji rade s njegovim energijama. \nRad sa Arhanđelom Raziilom zahteva posvećenost i iskrenu želju i nameru da promenite svoj put. Kad se jednom saglasite da\, uz njegovu pomoć\, učinite veliki korak u razvoju i promenu u životu\, život Vam više neće biti isti. Arhanđeo Raziil će Vas povesti na sledeće stepen Vašeg duhovnog razvoja\, na put ostvarenja Vaše životne misije i svrhe. Biće Vam data sposobnost\, u meri u kojoj ste spremni\, da otključate podsvesna znanja i sećanja. U tu svrhu\, pored autotretmana korišćenjem njegovog simbol\, preporučljivo je da koristite i meditaciju „Ključ Arhanđela Raziila“. \nCena obuke je 3000 dinara (30 evra). \nDatum održavanja je 3. jul u 20 sati. Od 4. jula obuka će biti trajno dostupna na našoj platformi. Inicijacija je vanvremenska i možete je dobiti kad god želite. Uz pristup obuci\, dobijate i pristup meditaciji. \n \n\n	Notice: JavaScript is required for this content.
URL:https://tamarainikos.com/event/energija-i-kljuc-arhandela-raziila/
CATEGORIES:Energija i ključ Arhanđela Raziila,Obuke,Online
ATTACH;FMTTYPE=image/jpeg:https://tamarainikos.com/wp-content/uploads/2025/06/Energija-i-kljuc-Arhandela-Raziila.jpg
END:VEVENT
BEGIN:VEVENT
DTSTART;TZID=Europe/Belgrade:20250728T200000
DTEND;TZID=Europe/Belgrade:20250728T210000
DTSTAMP:20260421T034640
CREATED:20250608T191143Z
LAST-MODIFIED:20250625T065543Z
UID:24496-1753732800-1753736400@tamarainikos.com
SUMMARY:Aktivacija 5D grlene čakre - online
DESCRIPTION:Kada je vaša grlena čakra petodimenzionalna\, ona je kraljevski plave boje i tada ste prirodno istinoljubivi\, časni\, hrabri i snažni. Kada živite u istini i časti\, svi vam veruju i osećate se sigurno. \nPetodimenzionalna grlena čakra obuhvata i čakru alta major. Čakra alta major je produžetak grlene čakre\, koja ima 22 odaje ili lekcije. Jedanaest odaja čakre alta major je zatim proširuje na 33 odaje\, povezujući je i omogućavajući komunikaciju sa anđeoskim i kosmičkim energijama. Kvaliteti 5D grlene i alta major čakre su važni za ovladavanje sobom i uzdizanje. \nAlta major je energetska tačka ukrštanja\, povezana sa višim srcem. Takođe povezuje krunsku čakru\, treće oko i korensku čakru aktiviranjem slobodnijeg protoka Kundalini energije. Naziva se „ustima Boga“ jer omogućava povezanost i komunikaciju sa Višim sopstvom i Višom svešću i pruža spiritualnu mudrost\, neophodnu za izgovaranje više istine. \nTokom aktivacije: \n\nPovezaćete se sa Arhanđelom Mihailom pre nego što uđete i osvetlite odaje čakre alta major.\nOsvestićete i verovatno dovršiti lekcije svake odaje svoje grlene i alta major čakre.\nAktiviraćete protok energije između svog višeg srca\, trećeg oka\, krunske i korenske čakre.\nIskusićete lično putovanje ka istini\, koje vam je u ovom momentu važno.\nPrimićete 5D kodove uzdizanja.\nPristupićete višoj kosmičkoj komunikaciji.\n\nVaša grlena čakra će zračiti svetlucavom providnom tirkizno-plavom bojom sa primesom zelene\, jer će nositi mnogo višu frekvenciju. \nAktivaciju radimo preko Zoom-a 28.7. u 20 sati. Od 29.7. aktivacija će biti dostupna na platformi.Cena aktivacije do 28.7. je 2000 dinara (20 evra)\, a od 29.7. 3000 dinara (30 evra) \n \n\n	Notice: JavaScript is required for this content.
URL:https://tamarainikos.com/event/aktivacija-5d-grlene-cakre/
CATEGORIES:Obuke,Online
ATTACH;FMTTYPE=image/png:https://tamarainikos.com/wp-content/uploads/2025/06/Aktivacija-5D-grlene-cakre.png
END:VEVENT
END:VCALENDAR