BEGIN:VCALENDAR
VERSION:2.0
PRODID:-//Tamara i Nikos - ECPv6.15.20//NONSGML v1.0//EN
CALSCALE:GREGORIAN
METHOD:PUBLISH
X-WR-CALNAME:Tamara i Nikos
X-ORIGINAL-URL:https://tamarainikos.com
X-WR-CALDESC:Events for Tamara i Nikos
REFRESH-INTERVAL;VALUE=DURATION:PT1H
X-Robots-Tag:noindex
X-PUBLISHED-TTL:PT1H
BEGIN:VTIMEZONE
TZID:Europe/Belgrade
BEGIN:DAYLIGHT
TZOFFSETFROM:+0100
TZOFFSETTO:+0200
TZNAME:CEST
DTSTART:20240331T010000
END:DAYLIGHT
BEGIN:STANDARD
TZOFFSETFROM:+0200
TZOFFSETTO:+0100
TZNAME:CET
DTSTART:20241027T010000
END:STANDARD
BEGIN:DAYLIGHT
TZOFFSETFROM:+0100
TZOFFSETTO:+0200
TZNAME:CEST
DTSTART:20250330T010000
END:DAYLIGHT
BEGIN:STANDARD
TZOFFSETFROM:+0200
TZOFFSETTO:+0100
TZNAME:CET
DTSTART:20251026T010000
END:STANDARD
BEGIN:DAYLIGHT
TZOFFSETFROM:+0100
TZOFFSETTO:+0200
TZNAME:CEST
DTSTART:20260329T010000
END:DAYLIGHT
BEGIN:STANDARD
TZOFFSETFROM:+0200
TZOFFSETTO:+0100
TZNAME:CET
DTSTART:20261025T010000
END:STANDARD
END:VTIMEZONE
BEGIN:VEVENT
DTSTART;TZID=Europe/Belgrade:20251006T190000
DTEND;TZID=Europe/Belgrade:20251006T200000
DTSTAMP:20260420T235411
CREATED:20250921T154824Z
LAST-MODIFIED:20250921T154824Z
UID:24870-1759777200-1759780800@tamarainikos.com
SUMMARY:Aktivacija 5D kauzalne čakre - online
DESCRIPTION:Pozivamo vas na aktivaciju 5D kauzalne čakre 6.10 u 19 sati. Od 7.10. aktivacija će biti trajno prisutna na našoj platformi. \nKauzalna čakra\, čisti beli energetski centar odmah iznad vaše krunske čakre\, predstavlja kapiju anđeoskog sveta i kraljevstva jednoroga. Ključ za puno i trajno otvaranje ove kapije je mir. \nPostoje dve vrste mira. Jedan kad se vi osećate mirno\, centrirano\, zadovoljno i da je sve u redu u vašem svetu. A postoji i mir koji prevazilazi sve ljudsko razumevanje\, koji je nepojmljiv. \nZa kauzalnu čakru je nadležan Arhanđeo Hristiil. Aktiviraćemo tri osobine\, tri kvaliteta koji su ključevi za otvaranje kapije i pristup svakom i najskrivenijem kutku: \n•          Neškodljivost\, koja je uzvišeniji oblik zajedništva. \n•          Jednost\, koja je uzvišeniji oblik ljubavi. \n•          Unutrašnju smirenost\, koja je uzvišeniji oblik mira. \nOve više osobine uzdizanja pružaju vam potpunu sigurnost i blagostanje\, dok ubrzavate svoje uzdizanje. Kada razvijete te osobine\, vaša kapija ka anđelima i jednorozima biće potpuno otvorena i bićete uvek povezani s njima. \nArhanđeo Hristiil i jednorozi rade na Zraku čistote. Bela je boja Izvora ljubavi i večnog mira. Dok se kupate u tom zraku\, povezani ste sa svojom božanskom prirodom. \nTokom aktivacije: \n•          Povezaćete se sa Arhanđelom Hristiilom. \n•          Radićete sa čistim belim anđelima mira. \n•          Otvorićete kapiju anđeoskog sveta i povezati se sa anđelima na dubokom nivou. \n•          Kroz kapiju Lire pristupićete kraljevstvu jednoroga da primite njihove blagoslove. \n•          Upoznaćete zmajeve mira\, srebrne lunarne zmajeve i belo-zlatne zmajeve sa Lire. \n•          Primićete instalacije svetlosnih ključeva i kodova za reprogramiranje eterične DNK u vašoj kauzalnoj čakri. \nVaša kauzalna čakra je transcedentna i kad je potpuno aktivirate bićete na putu da se sretnete sa svojom Monadom i JA JESAM prisustvom. \nCena aktivacije je 2000 dinara (20 evra) do 6.10. i 3000 dinara (30 evra) od 7.10. \n\n	Notice: JavaScript is required for this content.
URL:https://tamarainikos.com/event/aktivacija-5d-krunske-cakre-2-2/
CATEGORIES:Aktivacija 5D kauzalne čakre,Obuke,Online
ATTACH;FMTTYPE=image/jpeg:https://tamarainikos.com/wp-content/uploads/2025/09/AKTIVACIJA-5D-KAUZALNE-CAKRE-2.jpg
END:VEVENT
BEGIN:VEVENT
DTSTART;TZID=Europe/Belgrade:20251011T090000
DTEND;TZID=Europe/Belgrade:20251012T170000
DTSTAMP:20260420T235411
CREATED:20221204T204421Z
LAST-MODIFIED:20250824T195724Z
UID:22233-1760173200-1760288400@tamarainikos.com
SUMMARY:ThetaHealing® – Kopaj dublje – online
DESCRIPTION:Ključ uspeha ThetaHealing tehnike nalazi se u preciznom radu sa podsvešću\, pronalaženju temeljnih verovanja duboko u podsvesti\, koja nam prouzrokuju životne okolnosti koje nam se ne dopadaju\, njihovom otklanjanju i zameni novim verovanjima i osećajima. \nTehnika kojom pronalazimo ta temeljna verovanja naziva se kopanje. Osnovi kopanja uče se već na Osnovnom DNK seminaru\, na Naprednom se ta znanja produbljuju\, a svaki novi seminar podiže veštinu na viši nivo. Vajana je uočila potrebu da\, uprkos time što se na svim seminarima veština kopanja usavršava\, posveti ceo jedan seminar samo kopanju\, kako bi omogućila ljudima da se na jednom mestu isprobaju i izvešte u svim situacijama na koje mogu naići u radu na sebi i drugima. \nTako je oformljen seminar ”Kopaj dublje”\, na kojem se izučavaju različiti pristupi kopanju za rad na strahovima\, na emocijama poput zameranja\, ljutnje\, ogorčenosti\, itd.\, na bolestima\, na blokadama manifestovanju\, na genetskim verovanjima\, na istorijskom nivou\, na blokadama i verovanjima u vezi samog procesa kopanja. Takođe se polaznici osposobljavaju za pomoć klijentima da razumeju situaciju u kojoj se nalaze i otvore se za iscejenje u bilo kom segmentu života. \nPrijavite se ovde
URL:https://tamarainikos.com/event/thetahealing-kopaj-dublje-online/
CATEGORIES:Kopaj dublje,Online,ThetaHealing®
ATTACH;FMTTYPE=image/jpeg:https://tamarainikos.com/wp-content/uploads/2013/10/dig-deeper.jpg
END:VEVENT
BEGIN:VEVENT
DTSTART;TZID=Europe/Belgrade:20251017T090000
DTEND;TZID=Europe/Belgrade:20251019T170000
DTSTAMP:20260420T235411
CREATED:20250820T163507Z
LAST-MODIFIED:20250921T154111Z
UID:24840-1760691600-1760893200@tamarainikos.com
SUMMARY:ThetaHealing® – Napredni seminar – online
DESCRIPTION:Na Naprednom DNK seminaru produbićete znanja stečena na Osnovnom DNK seminaru. \nCilj ovog seminara je odstranjivanje prepreka u razvoju intuitivnih sposobnosti i snažno podsticanje Vašeg duhovnog razvoja. Saznaćete više o Sedam nivoa postojanja i kako da se oslobodite zaveta\, ugovora i obveza koji vas drže vezanim za druge nivoe\, a koji vam više ne služe. Isceljivaćete slomljenu dušu i srce i slati ljubav fetusu i isceliti fetalna sećanja. Kroz jednostavne vežbe povezaćete se sa svojim Višim Sebstvom i svojim precima i naučiti kako da radite ne samo s organskom već i s neorganskom materijom\, kako da očistite vaš dom ili radni prostor od energija niskih vibracija i kako da iscelite biljni i životinjski svet kao i neživu materiju. Radićete na traumama\, strahovima\, osećajima zameranja\, žaljenja i odbačenosti. \nOslobodićete se slobodno-plutajućih sećanja\, koja ste zadobili prilikom operacijskih zahvata\, automobilskih nesreća i slično i svih vidova zlostavljanja. Instaliraćemo vam preko 900 osećaja koje ranije možda niste iskusili i za koje bi duši trebalo mnogo života da ih nauči na uobičajeni način\, kroz razna\, često neprijatna\, životna iskustva. Podučavanje takvih osećaja imaće nemerljiv uticaj na vaše intuitivne sposobnosti i stvoriće fizičko zdravlje i blagostanje. Ta znanja\, razumevanja i osećaji će kreirati nove moždane puteve (neuronske veze) u vama i omogućiti emocionalne\, duhovne\, mentalne i telesne promene. \nPrijavite se ovde
URL:https://tamarainikos.com/event/thetahealing-napredni-seminar-online-4/
CATEGORIES:Napredni seminar,Online,ThetaHealing®
ATTACH;FMTTYPE=image/jpeg:https://tamarainikos.com/wp-content/uploads/2013/10/advanced.jpg
END:VEVENT
END:VCALENDAR