BEGIN:VCALENDAR
VERSION:2.0
PRODID:-//Tamara i Nikos - ECPv6.15.20//NONSGML v1.0//EN
CALSCALE:GREGORIAN
METHOD:PUBLISH
X-ORIGINAL-URL:https://tamarainikos.com
X-WR-CALDESC:Events for Tamara i Nikos
REFRESH-INTERVAL;VALUE=DURATION:PT1H
X-Robots-Tag:noindex
X-PUBLISHED-TTL:PT1H
BEGIN:VTIMEZONE
TZID:Europe/Belgrade
BEGIN:DAYLIGHT
TZOFFSETFROM:+0100
TZOFFSETTO:+0200
TZNAME:CEST
DTSTART:20240331T010000
END:DAYLIGHT
BEGIN:STANDARD
TZOFFSETFROM:+0200
TZOFFSETTO:+0100
TZNAME:CET
DTSTART:20241027T010000
END:STANDARD
BEGIN:DAYLIGHT
TZOFFSETFROM:+0100
TZOFFSETTO:+0200
TZNAME:CEST
DTSTART:20250330T010000
END:DAYLIGHT
BEGIN:STANDARD
TZOFFSETFROM:+0200
TZOFFSETTO:+0100
TZNAME:CET
DTSTART:20251026T010000
END:STANDARD
BEGIN:DAYLIGHT
TZOFFSETFROM:+0100
TZOFFSETTO:+0200
TZNAME:CEST
DTSTART:20260329T010000
END:DAYLIGHT
BEGIN:STANDARD
TZOFFSETFROM:+0200
TZOFFSETTO:+0100
TZNAME:CET
DTSTART:20261025T010000
END:STANDARD
END:VTIMEZONE
BEGIN:VEVENT
DTSTART;TZID=Europe/Belgrade:20251006T190000
DTEND;TZID=Europe/Belgrade:20251006T200000
DTSTAMP:20260421T011650
CREATED:20250921T154824Z
LAST-MODIFIED:20250921T154824Z
UID:24870-1759777200-1759780800@tamarainikos.com
SUMMARY:Aktivacija 5D kauzalne čakre - online
DESCRIPTION:Pozivamo vas na aktivaciju 5D kauzalne čakre 6.10 u 19 sati. Od 7.10. aktivacija će biti trajno prisutna na našoj platformi. \nKauzalna čakra\, čisti beli energetski centar odmah iznad vaše krunske čakre\, predstavlja kapiju anđeoskog sveta i kraljevstva jednoroga. Ključ za puno i trajno otvaranje ove kapije je mir. \nPostoje dve vrste mira. Jedan kad se vi osećate mirno\, centrirano\, zadovoljno i da je sve u redu u vašem svetu. A postoji i mir koji prevazilazi sve ljudsko razumevanje\, koji je nepojmljiv. \nZa kauzalnu čakru je nadležan Arhanđeo Hristiil. Aktiviraćemo tri osobine\, tri kvaliteta koji su ključevi za otvaranje kapije i pristup svakom i najskrivenijem kutku: \n•          Neškodljivost\, koja je uzvišeniji oblik zajedništva. \n•          Jednost\, koja je uzvišeniji oblik ljubavi. \n•          Unutrašnju smirenost\, koja je uzvišeniji oblik mira. \nOve više osobine uzdizanja pružaju vam potpunu sigurnost i blagostanje\, dok ubrzavate svoje uzdizanje. Kada razvijete te osobine\, vaša kapija ka anđelima i jednorozima biće potpuno otvorena i bićete uvek povezani s njima. \nArhanđeo Hristiil i jednorozi rade na Zraku čistote. Bela je boja Izvora ljubavi i večnog mira. Dok se kupate u tom zraku\, povezani ste sa svojom božanskom prirodom. \nTokom aktivacije: \n•          Povezaćete se sa Arhanđelom Hristiilom. \n•          Radićete sa čistim belim anđelima mira. \n•          Otvorićete kapiju anđeoskog sveta i povezati se sa anđelima na dubokom nivou. \n•          Kroz kapiju Lire pristupićete kraljevstvu jednoroga da primite njihove blagoslove. \n•          Upoznaćete zmajeve mira\, srebrne lunarne zmajeve i belo-zlatne zmajeve sa Lire. \n•          Primićete instalacije svetlosnih ključeva i kodova za reprogramiranje eterične DNK u vašoj kauzalnoj čakri. \nVaša kauzalna čakra je transcedentna i kad je potpuno aktivirate bićete na putu da se sretnete sa svojom Monadom i JA JESAM prisustvom. \nCena aktivacije je 2000 dinara (20 evra) do 6.10. i 3000 dinara (30 evra) od 7.10. \n\n	Notice: JavaScript is required for this content.
URL:https://tamarainikos.com/event/aktivacija-5d-krunske-cakre-2-2/
CATEGORIES:Aktivacija 5D kauzalne čakre,Obuke,Online
ATTACH;FMTTYPE=image/jpeg:https://tamarainikos.com/wp-content/uploads/2025/09/AKTIVACIJA-5D-KAUZALNE-CAKRE-2.jpg
END:VEVENT
END:VCALENDAR