BEGIN:VCALENDAR
VERSION:2.0
PRODID:-//Tamara i Nikos - ECPv6.15.20//NONSGML v1.0//EN
CALSCALE:GREGORIAN
METHOD:PUBLISH
X-WR-CALNAME:Tamara i Nikos
X-ORIGINAL-URL:https://tamarainikos.com
X-WR-CALDESC:Events for Tamara i Nikos
REFRESH-INTERVAL;VALUE=DURATION:PT1H
X-Robots-Tag:noindex
X-PUBLISHED-TTL:PT1H
BEGIN:VTIMEZONE
TZID:Europe/Belgrade
BEGIN:DAYLIGHT
TZOFFSETFROM:+0100
TZOFFSETTO:+0200
TZNAME:CEST
DTSTART:20250330T010000
END:DAYLIGHT
BEGIN:STANDARD
TZOFFSETFROM:+0200
TZOFFSETTO:+0100
TZNAME:CET
DTSTART:20251026T010000
END:STANDARD
BEGIN:DAYLIGHT
TZOFFSETFROM:+0100
TZOFFSETTO:+0200
TZNAME:CEST
DTSTART:20260329T010000
END:DAYLIGHT
BEGIN:STANDARD
TZOFFSETFROM:+0200
TZOFFSETTO:+0100
TZNAME:CET
DTSTART:20261025T010000
END:STANDARD
BEGIN:DAYLIGHT
TZOFFSETFROM:+0100
TZOFFSETTO:+0200
TZNAME:CEST
DTSTART:20270328T010000
END:DAYLIGHT
BEGIN:STANDARD
TZOFFSETFROM:+0200
TZOFFSETTO:+0100
TZNAME:CET
DTSTART:20271031T010000
END:STANDARD
END:VTIMEZONE
BEGIN:VEVENT
DTSTART;TZID=Europe/Belgrade:20260407T190000
DTEND;TZID=Europe/Belgrade:20260407T200000
DTSTAMP:20260420T163517
CREATED:20260324T200121Z
LAST-MODIFIED:20260324T200121Z
UID:25588-1775588400-1775592000@tamarainikos.com
SUMMARY:Aktivacija skoka svesti - online
DESCRIPTION:Vaše interesovanje za ovu aktivaciju znak je da se vaša duša opredelila da u ovoj inkarnaciji pođe putem uzdizanja u višu dimenziju\, dok ste u fizičkom telu. Inkarniranima na Zemlji moguće je više vidova uzdizanja\, a za svaki od njih na raspolaganju je veliki broj pomoćnika. Neki od njih\, veliki majstori kojima ovaj Univerzum nije matični\, prisutni su na Zemlji samo u periodima kad je potrebno da pomognu u ogromnim pomacima. Ovaj koji je pred nama\, koji se zapravo upravo dešava\, jedan je od takvih. Donosi ogroman skok svesti i transformaciju. \nU ovoj aktivaciji glavni vodič biće vam Lord Vuslu\, izuzetno visoko razvijeni majstor\, koji je poslednji put radio na Zemlji kad je Atlantida imala najsvetlije trenutke svog Zlatnog doba\, kao najviši sveštenik Posejdonovog hrama koji je imao toliko izbalansiran muški i ženski aspekt da je bio androgin. On je u atlantiđanske kristale instalirao informacije kojima je sada vreme da ponovo budu korišćene. Lord Vuslu zna šta nije funkcionisalo kako treba u Atlantidi i stara se da se u novom Zlatnom dobu te greške ne ponove. Iz drugog Univerzuma on svoju energiju spušta na Zemlju kroz Neptun\, a onda kroz dvosmerni interdimenzionalni portal u Stounhendžu. \nTokom ove aktivacije biće vam omogućeno da pristupite Hramu majstorstva sedme dimenzije kako biste sreli pet moćnih svetlosnih bića – Kvan Jin\, komandira Aštara\, Lorda Kumeku i Arhanđele Metatrona i Hristiila. Oni će raditi sa vašim energetskim poljem\, telom i čakrama kako bi vas pripremili za sledeći deo vašeg skoka uzdizanja. \nTokom aktivacije uz vas će biti i vaš jednorog\, drugi jednorozi i anđeli ljubavi. \nLord Vuslu će vas odvesti i u viši Kosmički srčani centar\, Veneru\, gde ćete stupiti u kontakt sa sferom koja sadrži nacrt za novo Zlatno doba. Tu ćete dobiti inicijaciju u Vusluov Red Svetlosti uzdizanja za Zemlju. Ta inicijacija će aktivirati kodove koje ste prihvatili pre nego što ste došli u ovu inkarnaciju kao neko ko će pomoći planeti da se uzdigne u veličanstveno Novo doba. Kao pripadnik Vusluovog reda\, sve dobrobiti koje dobijete za sebe\, automatski ćete prenositi i na druge ljude\, kao vid služenja za koje se vaša duša opredelila pre inkarnacije. Aktivacija kodova koji su već u vama kao potencijal transformisaće vas u najbolju verziju sebe koja trenutno možete biti. Veliki skok svesti znatno će vas približite onome što istinski jeste. \nAktivaciju radimo preko Zoom-a 7.4. u 19 sati. Od 8.4. će biti dostupna preko naše platforme. \n\n	Notice: JavaScript is required for this content.
URL:https://tamarainikos.com/event/aktivacija-kodova-za-podmladivanje-i-regeneraciju-2/
CATEGORIES:Aktivacija skoka svesti,Obuke,Online
ATTACH;FMTTYPE=image/webp:https://tamarainikos.com/wp-content/uploads/2026/03/viber_image_2026-03-24_14-28-18-840.webp
END:VEVENT
END:VCALENDAR